BEGIN:VCALENDAR
VERSION:2.0
PRODID:-//Sabre//Sabre VObject 4.5.4//EN
CALSCALE:GREGORIAN
BEGIN:VEVENT
UID:sabre-vobject-b7068721-c2d3-4be7-abe1-d5152cec7009
DTSTAMP:20260422T173241Z
SUMMARY:The Tracks op een Besloten Feest
DESCRIPTION:Besloten feest voor een dierbare jarige.\n
X-ALT-DESC:FMTTYPE=text/html:<!DOCTYPE HTML PUBLIC "-//W3C//DTD HTML 3.2//E
 N"><HTML><p>Besloten feest voor een dierbare jarige.</p>\n</HTML>
CREATED;TZID=Europe/Amsterdam:20260120T214722
URL;VALUE=URI:https://www.thetracks.nl/index.php/waar-zijn-tracks/tracks-op
 -een-besloten-feest
DTSTART;TZID=Europe/Amsterdam:20260516T190000
DTEND;TZID=Europe/Amsterdam:20260516T235500
SEQUENCE:0
END:VEVENT
END:VCALENDAR
